BEGIN:VCALENDAR
VERSION:2.0
PRODID:-//MAINECAN: Maine community-led Energy and Climate Action Network - ECPv6.15.17.1//NONSGML v1.0//EN
CALSCALE:GREGORIAN
METHOD:PUBLISH
X-ORIGINAL-URL:https://mainecan.network
X-WR-CALDESC:Events for MAINECAN: Maine community-led Energy and Climate Action Network
REFRESH-INTERVAL;VALUE=DURATION:PT1H
X-Robots-Tag:noindex
X-PUBLISHED-TTL:PT1H
BEGIN:VTIMEZONE
TZID:America/New_York
BEGIN:DAYLIGHT
TZOFFSETFROM:-0500
TZOFFSETTO:-0400
TZNAME:EDT
DTSTART:20240310T070000
END:DAYLIGHT
BEGIN:STANDARD
TZOFFSETFROM:-0400
TZOFFSETTO:-0500
TZNAME:EST
DTSTART:20241103T060000
END:STANDARD
BEGIN:DAYLIGHT
TZOFFSETFROM:-0500
TZOFFSETTO:-0400
TZNAME:EDT
DTSTART:20250309T070000
END:DAYLIGHT
BEGIN:STANDARD
TZOFFSETFROM:-0400
TZOFFSETTO:-0500
TZNAME:EST
DTSTART:20251102T060000
END:STANDARD
BEGIN:DAYLIGHT
TZOFFSETFROM:-0500
TZOFFSETTO:-0400
TZNAME:EDT
DTSTART:20260308T070000
END:DAYLIGHT
BEGIN:STANDARD
TZOFFSETFROM:-0400
TZOFFSETTO:-0500
TZNAME:EST
DTSTART:20261101T060000
END:STANDARD
END:VTIMEZONE
BEGIN:VEVENT
DTSTART;TZID=America/New_York:20250414T150000
DTEND;TZID=America/New_York:20250414T160000
DTSTAMP:20260424T073413
CREATED:20250314T165520Z
LAST-MODIFIED:20250609T192856Z
UID:1645-1744642800-1744646400@mainecan.network
SUMMARY:Mitchell Center - Talk – Managing for sustainability and climate resilience: The future of agroecological wild blueberry management in Maine and maritime Canada
DESCRIPTION:Wild blueberry production in Maine and maritime Canada is an ecologically\, economically\, and culturally important industry and land use. Agroecology is a scientific discipline that examines agriculture within both ecological and social contexts\, and can be used to better understand the past\, present\, and potential future of wild blueberry agriculture in our region. In this talk\, we present two recent agroecological investigations of wild blueberries: First\, Brogan Tooley\, senior manager of agroecology at Wyman’s\, will share on-farm challenges and ongoing research efforts to identify management techniques that bolster crop resilience and mitigate crop stress in today’s climate. Next\, Dr. Rachel Schattman of the University of Maine Agroecology Lab will present on an ongoing study to investigate the effects of climate change\, specifically changing temperature and precipitation regimes\, on wild blueberries. We invite audience participation in the second half of the presentation as we probe the most pressing questions related to Northeast wild blueberry production in a changing climate.
URL:https://mainecan.network/event/talk-managing-for-sustainability-and-climate-resilience-the-future-of-agroecological-wild-blueberry-management-in-maine-and-maritime-canada/
LOCATION:Mitchell Center\, 107 Norman Smith Hall\, UMaine\, Orono\, ME\, 04469\, United States
CATEGORIES:Educational Event,Webinar
END:VEVENT
BEGIN:VEVENT
DTSTART;TZID=America/New_York:20250415T153000
DTEND;TZID=America/New_York:20250415T170000
DTSTAMP:20260424T073413
CREATED:20250314T162057Z
LAST-MODIFIED:20250314T162057Z
UID:1606-1744731000-1744736400@mainecan.network
SUMMARY:STEAM Team ~ Dive into Vernal Pools
DESCRIPTION:Join us in exploring one of the most spectacular signs of spring…vernal pools! Seasonal spring pools are essential for the wellness of many critters and the forest ecosystem\, but as the name implies\, they are not here for long. Youth will build a model of a vernal pool to discover how these pools develop over time and play a game to learn what outside factors influence these sensitive ecosystems. Free event for ages 8-12.
URL:https://mainecan.network/event/steam-team-dive-into-vernal-pools/
LOCATION:Belfast Free Library\, 106 High St\, Belfast\, ME\, 04915\, United States
CATEGORIES:Educational Event
END:VEVENT
END:VCALENDAR