BEGIN:VCALENDAR
VERSION:2.0
PRODID:-//MAINECAN: Maine community-led Energy and Climate Action Network - ECPv6.15.17.1//NONSGML v1.0//EN
CALSCALE:GREGORIAN
METHOD:PUBLISH
X-WR-CALNAME:MAINECAN: Maine community-led Energy and Climate Action Network
X-ORIGINAL-URL:https://mainecan.network
X-WR-CALDESC:Events for MAINECAN: Maine community-led Energy and Climate Action Network
REFRESH-INTERVAL;VALUE=DURATION:PT1H
X-Robots-Tag:noindex
X-PUBLISHED-TTL:PT1H
BEGIN:VTIMEZONE
TZID:America/New_York
BEGIN:DAYLIGHT
TZOFFSETFROM:-0500
TZOFFSETTO:-0400
TZNAME:EDT
DTSTART:20240310T070000
END:DAYLIGHT
BEGIN:STANDARD
TZOFFSETFROM:-0400
TZOFFSETTO:-0500
TZNAME:EST
DTSTART:20241103T060000
END:STANDARD
BEGIN:DAYLIGHT
TZOFFSETFROM:-0500
TZOFFSETTO:-0400
TZNAME:EDT
DTSTART:20250309T070000
END:DAYLIGHT
BEGIN:STANDARD
TZOFFSETFROM:-0400
TZOFFSETTO:-0500
TZNAME:EST
DTSTART:20251102T060000
END:STANDARD
BEGIN:DAYLIGHT
TZOFFSETFROM:-0500
TZOFFSETTO:-0400
TZNAME:EDT
DTSTART:20260308T070000
END:DAYLIGHT
BEGIN:STANDARD
TZOFFSETFROM:-0400
TZOFFSETTO:-0500
TZNAME:EST
DTSTART:20261101T060000
END:STANDARD
END:VTIMEZONE
BEGIN:VEVENT
DTSTART;TZID=America/New_York:20250422T173000
DTEND;TZID=America/New_York:20250422T190000
DTSTAMP:20260421T194248
CREATED:20250314T161445Z
LAST-MODIFIED:20250609T190537Z
UID:1597-1745343000-1745348400@mainecan.network
SUMMARY:CEBE Community Celebration & Open House
DESCRIPTION:This April 22nd marks the shared celebration of CEBE’s 12th birthday and Earth Day! We cannot think of a better time to honor our community\, to take stock of all we have accomplished together\, and to recharge our collective energies for the important climate work that lies ahead.
URL:https://mainecan.network/event/community-celebration-open-house/
LOCATION:Center for an Ecology-Based Economy\, 447 Main St\, Norway\, ME\, 04268\, United States
CATEGORIES:Other
END:VEVENT
END:VCALENDAR