BEGIN:VCALENDAR
VERSION:2.0
PRODID:-//MAINECAN: Maine community-led Energy and Climate Action Network - ECPv6.15.17.1//NONSGML v1.0//EN
CALSCALE:GREGORIAN
METHOD:PUBLISH
X-WR-CALNAME:MAINECAN: Maine community-led Energy and Climate Action Network
X-ORIGINAL-URL:https://mainecan.network
X-WR-CALDESC:Events for MAINECAN: Maine community-led Energy and Climate Action Network
REFRESH-INTERVAL;VALUE=DURATION:PT1H
X-Robots-Tag:noindex
X-PUBLISHED-TTL:PT1H
BEGIN:VTIMEZONE
TZID:America/New_York
BEGIN:DAYLIGHT
TZOFFSETFROM:-0500
TZOFFSETTO:-0400
TZNAME:EDT
DTSTART:20240310T070000
END:DAYLIGHT
BEGIN:STANDARD
TZOFFSETFROM:-0400
TZOFFSETTO:-0500
TZNAME:EST
DTSTART:20241103T060000
END:STANDARD
BEGIN:DAYLIGHT
TZOFFSETFROM:-0500
TZOFFSETTO:-0400
TZNAME:EDT
DTSTART:20250309T070000
END:DAYLIGHT
BEGIN:STANDARD
TZOFFSETFROM:-0400
TZOFFSETTO:-0500
TZNAME:EST
DTSTART:20251102T060000
END:STANDARD
BEGIN:DAYLIGHT
TZOFFSETFROM:-0500
TZOFFSETTO:-0400
TZNAME:EDT
DTSTART:20260308T070000
END:DAYLIGHT
BEGIN:STANDARD
TZOFFSETFROM:-0400
TZOFFSETTO:-0500
TZNAME:EST
DTSTART:20261101T060000
END:STANDARD
END:VTIMEZONE
BEGIN:VEVENT
DTSTART;TZID=America/New_York:20250407T120000
DTEND;TZID=America/New_York:20250407T130000
DTSTAMP:20260421T181148
CREATED:20250314T162801Z
LAST-MODIFIED:20250604T203405Z
UID:1613-1744027200-1744030800@mainecan.network
SUMMARY:Local Leads the Way April 2025 call
DESCRIPTION:Local Leads the Way provides support to communities throughout the state of Maine who are engaged in community-driven\, solutions-focused climate action. Local Leads the Way hosts monthly meetings open to anyone involved in or contemplating community-driven climate action. Through these meetings\, participants share resources\, build networks of support\, participate in trainings\, collaborate\, and reduce duplication of effort. Meetings typically take place the first Monday of each month. We hope you will join us! Email johannah@aclimatetothrive.org with any questions or to express interest in Local Leads the Way!
URL:https://mainecan.network/event/local-leads-the-way-april-call/
LOCATION:Zoom
CATEGORIES:Discussion
END:VEVENT
BEGIN:VEVENT
DTSTART;TZID=America/New_York:20250410T130000
DTEND;TZID=America/New_York:20250410T140000
DTSTAMP:20260421T181148
CREATED:20250314T153204Z
LAST-MODIFIED:20250609T192955Z
UID:1532-1744290000-1744293600@mainecan.network
SUMMARY:Clean Energy Group - Webinar: Energy Resilience for Medically Vulnerable Multifamily Affordable Housing Residents: A Technoeconomic Analysis for Connecticut
DESCRIPTION:Power outages can quickly turn into a health crisis for the millions of Americans that rely on electricity for home medical devices\, including life-support equipment and technologies for independent living. A new report\, Optimizing Energy Resilience to Support Medically Vulnerable Multifamily Affordable Housing Residents\, assesses the potential for solar+storage to improve health outcomes for medically vulnerable residents. It includes a technoeconomic analysis that explores opportunities to maintain electricity to essential resident services\, both in-unit and in communal spaces\, at three multifamily affordable housing facilities in Connecticut. In this webinar\, project partners will discuss the methodology and results of their technoeconomic analysis\, including key findings and recommendations. Speakers will also discuss applicable incentives available through Connecticut’s Energy Storage Solutions program and Residential Renewable Energy Solutions program.
URL:https://mainecan.network/event/webinar-energy-resilience-for-medically-vulnerable-multifamily-affordable-housing-residents-a-technoeconomic-analysis-for-connecticut/
LOCATION:Zoom
CATEGORIES:Webinar
END:VEVENT
BEGIN:VEVENT
DTSTART;TZID=America/New_York:20250418T100000
DTEND;TZID=America/New_York:20250418T120000
DTSTAMP:20260421T181148
CREATED:20250314T170048Z
LAST-MODIFIED:20250609T190658Z
UID:1651-1744970400-1744977600@mainecan.network
SUMMARY:Mitchell Center - 2025 Maine Wasted Food Solutions Summit
DESCRIPTION:The Maine Wasted Food Solutions Summit is Maine’s only statewide event focused on ending wasted food and food loss in our state. The Summit brings together our state’s key food system participants—farms\, businesses\, feeding partners\, community leaders and more – to discuss proven win-win solutions for ending wasted food and food loss in Maine.
URL:https://mainecan.network/event/2025-maine-wasted-food-solutions-summit/
LOCATION:Mitchell Center\, 107 Norman Smith Hall\, UMaine\, Orono\, ME\, 04469\, United States
CATEGORIES:Educational Event,Webinar
END:VEVENT
BEGIN:VEVENT
DTSTART;TZID=America/New_York:20250422T173000
DTEND;TZID=America/New_York:20250422T190000
DTSTAMP:20260421T181148
CREATED:20250314T161445Z
LAST-MODIFIED:20250609T190537Z
UID:1597-1745343000-1745348400@mainecan.network
SUMMARY:CEBE Community Celebration & Open House
DESCRIPTION:This April 22nd marks the shared celebration of CEBE’s 12th birthday and Earth Day! We cannot think of a better time to honor our community\, to take stock of all we have accomplished together\, and to recharge our collective energies for the important climate work that lies ahead.
URL:https://mainecan.network/event/community-celebration-open-house/
LOCATION:Center for an Ecology-Based Economy\, 447 Main St\, Norway\, ME\, 04268\, United States
CATEGORIES:Other
END:VEVENT
BEGIN:VEVENT
DTSTART;TZID=America/New_York:20250426T100000
DTEND;TZID=America/New_York:20250426T120000
DTSTAMP:20260421T181148
CREATED:20250314T161154Z
LAST-MODIFIED:20250609T190416Z
UID:1592-1745661600-1745668800@mainecan.network
SUMMARY:Sierra Club Maine - Earth Day Clean-up at Back Cove Trail\, Portland
DESCRIPTION:Please join us at the Back Cove Trail in Portland for a clean up of the beautiful trail. One of the oldest and most popular of the trails in Portland\, Back Cove offers great views of the Portland skyline. Ideal for walking\, running\, biking and dog walking. There are benches and two water fountains (seasonal) along the trail. Portable toilets are available in the parking areas at Preble Street Extension and Payson Park.
URL:https://mainecan.network/event/earth-day-clean-up-at-back-cove-trail-portland/
LOCATION:Back Cove Trail\, 288 Clifton St\, Portland\, ME\, 04103\, United States
CATEGORIES:Other
END:VEVENT
BEGIN:VEVENT
DTSTART;VALUE=DATE:20250430
DTEND;VALUE=DATE:20250501
DTSTAMP:20260421T181148
CREATED:20250314T164141Z
LAST-MODIFIED:20250609T190333Z
UID:1632-1745971200-1746057599@mainecan.network
SUMMARY:ACTT Community-Driven Energy Planning Workshop Series
DESCRIPTION:ACTT is excited to bring the community-driven energy planning workshop and accompanying game to MDI. Save the date to join us Wednesday evening\, April 30 for collaborative learning\, game playing\, dinner\, and fun! We will follow up with specifics regarding location and time. This workshop is appropriate for participants ages 13 and older and is ideal for a mixture of formal and informal community leaders and interested citizens. Anyone with an interest in MDI’s energy future is encouraged to attend.
URL:https://mainecan.network/event/community-driven-energy-planning-workshop-series/
LOCATION:ME
CATEGORIES:Educational Event
END:VEVENT
END:VCALENDAR