BEGIN:VCALENDAR
VERSION:2.0
PRODID:-//MAINECAN: Maine community-led Energy and Climate Action Network - ECPv6.15.17.1//NONSGML v1.0//EN
CALSCALE:GREGORIAN
METHOD:PUBLISH
X-WR-CALNAME:MAINECAN: Maine community-led Energy and Climate Action Network
X-ORIGINAL-URL:https://mainecan.network
X-WR-CALDESC:Events for MAINECAN: Maine community-led Energy and Climate Action Network
REFRESH-INTERVAL;VALUE=DURATION:PT1H
X-Robots-Tag:noindex
X-PUBLISHED-TTL:PT1H
BEGIN:VTIMEZONE
TZID:America/New_York
BEGIN:DAYLIGHT
TZOFFSETFROM:-0500
TZOFFSETTO:-0400
TZNAME:EDT
DTSTART:20240310T070000
END:DAYLIGHT
BEGIN:STANDARD
TZOFFSETFROM:-0400
TZOFFSETTO:-0500
TZNAME:EST
DTSTART:20241103T060000
END:STANDARD
BEGIN:DAYLIGHT
TZOFFSETFROM:-0500
TZOFFSETTO:-0400
TZNAME:EDT
DTSTART:20250309T070000
END:DAYLIGHT
BEGIN:STANDARD
TZOFFSETFROM:-0400
TZOFFSETTO:-0500
TZNAME:EST
DTSTART:20251102T060000
END:STANDARD
BEGIN:DAYLIGHT
TZOFFSETFROM:-0500
TZOFFSETTO:-0400
TZNAME:EDT
DTSTART:20260308T070000
END:DAYLIGHT
BEGIN:STANDARD
TZOFFSETFROM:-0400
TZOFFSETTO:-0500
TZNAME:EST
DTSTART:20261101T060000
END:STANDARD
END:VTIMEZONE
BEGIN:VEVENT
DTSTART;TZID=America/New_York:20250904T120000
DTEND;TZID=America/New_York:20250904T130000
DTSTAMP:20260421T115808
CREATED:20250314T153940Z
LAST-MODIFIED:20250609T185813Z
UID:1547-1756987200-1756990800@mainecan.network
SUMMARY:NRCM Monthly Climate Action Call - September 2025
DESCRIPTION:These Zoom meetings will give you a chance to meet our staff experts\, hear the latest climate & clean energy related updates at the State House and beyond\, and learn ways to take action and make a difference. We’ll focus on a different issue each month and send an agenda and what to expect before each call.
URL:https://mainecan.network/event/nrcm-monthly-climate-action-call-5/
LOCATION:Zoom
CATEGORIES:Meeting
END:VEVENT
BEGIN:VEVENT
DTSTART;TZID=America/New_York:20250908T120000
DTEND;TZID=America/New_York:20250908T130000
DTSTAMP:20260421T115808
CREATED:20250314T163443Z
LAST-MODIFIED:20250730T141509Z
UID:1624-1757332800-1757336400@mainecan.network
SUMMARY:Local Leads the Way September 2025 meeting 9/8
DESCRIPTION:Register at https://www.aclimatetothrive.org/localleadstheway \nLocal Leads the Way provides support to communities throughout the state of Maine who are engaged in community-driven\, solutions-focused climate action. Local Leads the Way hosts monthly meetings open to anyone involved in or contemplating community-driven climate action. Through these meetings\, participants share resources\, build networks of support\, participate in trainings\, collaborate\, and reduce duplication of effort. Meetings typically take place the first Monday of each month. We hope you will join us! Email johannah@aclimatetothrive.org with any questions or to express interest in Local Leads the Way!
URL:https://mainecan.network/event/local-leads-the-way-september-call/
LOCATION:Zoom
CATEGORIES:Discussion
END:VEVENT
END:VCALENDAR