BEGIN:VCALENDAR
VERSION:2.0
PRODID:-//MAINECAN: Maine community-led Energy and Climate Action Network - ECPv6.15.17.1//NONSGML v1.0//EN
CALSCALE:GREGORIAN
METHOD:PUBLISH
X-WR-CALNAME:MAINECAN: Maine community-led Energy and Climate Action Network
X-ORIGINAL-URL:https://mainecan.network
X-WR-CALDESC:Events for MAINECAN: Maine community-led Energy and Climate Action Network
REFRESH-INTERVAL;VALUE=DURATION:PT1H
X-Robots-Tag:noindex
X-PUBLISHED-TTL:PT1H
BEGIN:VTIMEZONE
TZID:America/New_York
BEGIN:DAYLIGHT
TZOFFSETFROM:-0500
TZOFFSETTO:-0400
TZNAME:EDT
DTSTART:20240310T070000
END:DAYLIGHT
BEGIN:STANDARD
TZOFFSETFROM:-0400
TZOFFSETTO:-0500
TZNAME:EST
DTSTART:20241103T060000
END:STANDARD
BEGIN:DAYLIGHT
TZOFFSETFROM:-0500
TZOFFSETTO:-0400
TZNAME:EDT
DTSTART:20250309T070000
END:DAYLIGHT
BEGIN:STANDARD
TZOFFSETFROM:-0400
TZOFFSETTO:-0500
TZNAME:EST
DTSTART:20251102T060000
END:STANDARD
BEGIN:DAYLIGHT
TZOFFSETFROM:-0500
TZOFFSETTO:-0400
TZNAME:EDT
DTSTART:20260308T070000
END:DAYLIGHT
BEGIN:STANDARD
TZOFFSETFROM:-0400
TZOFFSETTO:-0500
TZNAME:EST
DTSTART:20261101T060000
END:STANDARD
END:VTIMEZONE
BEGIN:VEVENT
DTSTART;TZID=America/New_York:20251103T120000
DTEND;TZID=America/New_York:20251103T130000
DTSTAMP:20260421T141941
CREATED:20250314T163908Z
LAST-MODIFIED:20250729T165458Z
UID:1628-1762171200-1762174800@mainecan.network
SUMMARY:Local Leads the Way November 2025 call (Date TBA)
DESCRIPTION:Check the website for the date and time of this meeting.  \nLocal Leads the Way provides support to communities throughout the state of Maine who are engaged in community-driven\, solutions-focused climate action. Local Leads the Way hosts monthly meetings open to anyone involved in or contemplating community-driven climate action. Through these meetings\, participants share resources\, build networks of support\, participate in trainings\, collaborate\, and reduce duplication of effort. Meetings typically take place the first Monday of each month at 4:00 p.m. We hope you will join us! Email johannah@aclimatetothrive.org with any questions or to express interest in Local Leads the Way!
URL:https://mainecan.network/event/local-leads-the-way-november-call/
LOCATION:Zoom
CATEGORIES:Discussion
END:VEVENT
BEGIN:VEVENT
DTSTART;TZID=America/New_York:20251105T120000
DTEND;TZID=America/New_York:20251105T130000
DTSTAMP:20260421T141941
CREATED:20251212T145654Z
LAST-MODIFIED:20251212T145654Z
UID:4533-1762344000-1762347600@mainecan.network
SUMMARY:MAINECAN Community Coordinators Quarterly Meeting - November 2026
DESCRIPTION:MAINECAN convenes a quarterly meeting for community energy and resilience coordinators across Maine. This peer learning group discusses how coordinators can support community-led initiatives\, identifies gaps in community support\, and plans how to fill gaps and increase access to coordinator programs. \nContact info@mainecan.network for more information or to join the meeting. Meeting announcements are sent to the MAINECAN Google Group. Join MAINECAN to be added to the Google Group.
URL:https://mainecan.network/event/mainecan-community-coordinators-quarterly-meeting-november-2026/
LOCATION:Zoom
CATEGORIES:Meeting
ORGANIZER;CN="MAINECAN":MAILTO:info@mainecan.network
END:VEVENT
BEGIN:VEVENT
DTSTART;TZID=America/New_York:20251106T120000
DTEND;TZID=America/New_York:20251106T130000
DTSTAMP:20260421T141941
CREATED:20250314T154227Z
LAST-MODIFIED:20250609T185728Z
UID:1551-1762430400-1762434000@mainecan.network
SUMMARY:NRCM Monthly Climate Action Call - November 2025
DESCRIPTION:These Zoom meetings will give you a chance to meet our staff experts\, hear the latest climate & clean energy related updates at the State House and beyond\, and learn ways to take action and make a difference. We’ll focus on a different issue each month and send an agenda and what to expect before each call.
URL:https://mainecan.network/event/nrcm-monthly-climate-action-call-7/
LOCATION:Zoom
CATEGORIES:Meeting
END:VEVENT
BEGIN:VEVENT
DTSTART;TZID=America/New_York:20251118T120000
DTEND;TZID=America/New_York:20251118T130000
DTSTAMP:20260421T141941
CREATED:20250314T160648Z
LAST-MODIFIED:20250609T181119Z
UID:1584-1763467200-1763470800@mainecan.network
SUMMARY:Sierra Club Maine - Clean Energy Team Meeting - November 2025
DESCRIPTION:The Clean Energy Team of Sierra Club Maine deals with state-wide issues related to energy. The team seeks to educate the chapter members\, influence state policy\, and further the adoption of clean\, renewable energy. (Source: Sierra Club Maine event website)
URL:https://mainecan.network/event/clean-energy-team-meeting-8/
LOCATION:Zoom
CATEGORIES:Educational Event,Meeting
END:VEVENT
END:VCALENDAR