BEGIN:VCALENDAR
VERSION:2.0
PRODID:-//MAINECAN: Maine community-led Energy and Climate Action Network - ECPv6.15.17.1//NONSGML v1.0//EN
CALSCALE:GREGORIAN
METHOD:PUBLISH
X-WR-CALNAME:MAINECAN: Maine community-led Energy and Climate Action Network
X-ORIGINAL-URL:https://mainecan.network
X-WR-CALDESC:Events for MAINECAN: Maine community-led Energy and Climate Action Network
REFRESH-INTERVAL;VALUE=DURATION:PT1H
X-Robots-Tag:noindex
X-PUBLISHED-TTL:PT1H
BEGIN:VTIMEZONE
TZID:America/New_York
BEGIN:DAYLIGHT
TZOFFSETFROM:-0500
TZOFFSETTO:-0400
TZNAME:EDT
DTSTART:20240310T070000
END:DAYLIGHT
BEGIN:STANDARD
TZOFFSETFROM:-0400
TZOFFSETTO:-0500
TZNAME:EST
DTSTART:20241103T060000
END:STANDARD
BEGIN:DAYLIGHT
TZOFFSETFROM:-0500
TZOFFSETTO:-0400
TZNAME:EDT
DTSTART:20250309T070000
END:DAYLIGHT
BEGIN:STANDARD
TZOFFSETFROM:-0400
TZOFFSETTO:-0500
TZNAME:EST
DTSTART:20251102T060000
END:STANDARD
BEGIN:DAYLIGHT
TZOFFSETFROM:-0500
TZOFFSETTO:-0400
TZNAME:EDT
DTSTART:20260308T070000
END:DAYLIGHT
BEGIN:STANDARD
TZOFFSETFROM:-0400
TZOFFSETTO:-0500
TZNAME:EST
DTSTART:20261101T060000
END:STANDARD
END:VTIMEZONE
BEGIN:VEVENT
DTSTART;TZID=America/New_York:20250806T170000
DTEND;TZID=America/New_York:20250806T190000
DTSTAMP:20260421T183618
CREATED:20250729T165108Z
LAST-MODIFIED:20250729T165108Z
UID:3411-1754499600-1754506800@mainecan.network
SUMMARY:E2Tech Summer Social in Freeport 8/6/2025
DESCRIPTION:August 6 at Maine Beer Company in Freeport\, 5:00-7:00 pm. \nE2Tech’s Summer Social is a favorite tradition—an opportunity to share stories of success (and failure)\, explore what’s new in Maine’s growing green economy\, and connect with colleagues and change-makers. Last year’s event welcomed 114 participants\, and with developments unfolding in Maine\, across the U.S.\, and beyond\, there will be lots to discuss. We’re thrilled to return to Maine Beer Company in Freeport for an evening of great food\, drinks\, and fellowship on Wednesday\, August 6. We hope to see you there! (Sign up here)
URL:https://mainecan.network/event/e2tech-summer-social-in-freeport-8-6-2025/
LOCATION:Freeport\, ME\, Freeport\, ME
END:VEVENT
BEGIN:VEVENT
DTSTART;TZID=America/New_York:20250807T120000
DTEND;TZID=America/New_York:20250807T130000
DTSTAMP:20260421T183618
CREATED:20250314T153833Z
LAST-MODIFIED:20250609T185833Z
UID:1545-1754568000-1754571600@mainecan.network
SUMMARY:NRCM Monthly Climate Action Call - August 2025
DESCRIPTION:These Zoom meetings will give you a chance to meet our staff experts\, hear the latest climate & clean energy related updates at the State House and beyond\, and learn ways to take action and make a difference. We’ll focus on a different issue each month and send an agenda and what to expect before each call.
URL:https://mainecan.network/event/nrcm-monthly-climate-action-call-4/
LOCATION:Zoom
CATEGORIES:Meeting
END:VEVENT
BEGIN:VEVENT
DTSTART;TZID=America/New_York:20250819T120000
DTEND;TZID=America/New_York:20250819T130000
DTSTAMP:20260421T183618
CREATED:20250314T155945Z
LAST-MODIFIED:20250609T181334Z
UID:1578-1755604800-1755608400@mainecan.network
SUMMARY:Sierra Club Maine - Clean Energy Team Meeting - August 2025
DESCRIPTION:The Clean Energy Team of Sierra Club Maine deals with state-wide issues related to energy. The team seeks to educate the chapter members\, influence state policy\, and further the adoption of clean\, renewable energy. (Source: Sierra Club Maine event website)
URL:https://mainecan.network/event/clean-energy-team-meeting-5/
LOCATION:Zoom
CATEGORIES:Meeting
END:VEVENT
BEGIN:VEVENT
DTSTART;TZID=America/New_York:20250819T120000
DTEND;TZID=America/New_York:20250819T130000
DTSTAMP:20260421T183618
CREATED:20250807T164852Z
LAST-MODIFIED:20250807T164940Z
UID:3422-1755604800-1755608400@mainecan.network
SUMMARY:GPCOG & SMRCC Webinar: Bright ideas for a Stormy Future: Strengthening Southern Maine’s resilience to power outages
DESCRIPTION:The Greater Portland Council of Governments (GPCOG) and SMRCC are hosting Part 2 of the Municipal Grid Resilience Webinar series launched in June. The webinars explore how municipal staff\, elected officials\, and resilience committee members can influence regional grid planning. \nThe second session of this series will feature Karina Graeter\, Sustainability Division Director at Southern Maine Planning & Development Commission (SMPDC) who will discuss findings from grid reliability and power outage assessments across Southern Maine as part of the creation of SMPDC’s Southern Maine Energy Resilience Plan. Join the session to learn why outages occur\, the impacts on businesses\, governments\, and communities\, and to participate in the conversation on how to contribute to grid resilience. Access the Recording for Part 1 of the Grid Resilience Series. \n(Source: SMRCC August Newsletter)
URL:https://mainecan.network/event/gpcog-smrcc-webinar-bright-ideas-for-a-stormy-future-strengthening-southern-maines-resilience-to-power-outages-gpcog-and-smrcc-grid-resilience-series-session-two/
CATEGORIES:Webinar
END:VEVENT
END:VCALENDAR