BEGIN:VCALENDAR
VERSION:2.0
PRODID:-//MAINECAN: Maine community-led Energy and Climate Action Network - ECPv6.15.17.1//NONSGML v1.0//EN
CALSCALE:GREGORIAN
METHOD:PUBLISH
X-WR-CALNAME:MAINECAN: Maine community-led Energy and Climate Action Network
X-ORIGINAL-URL:https://mainecan.network
X-WR-CALDESC:Events for MAINECAN: Maine community-led Energy and Climate Action Network
REFRESH-INTERVAL;VALUE=DURATION:PT1H
X-Robots-Tag:noindex
X-PUBLISHED-TTL:PT1H
BEGIN:VTIMEZONE
TZID:America/New_York
BEGIN:DAYLIGHT
TZOFFSETFROM:-0500
TZOFFSETTO:-0400
TZNAME:EDT
DTSTART:20250309T070000
END:DAYLIGHT
BEGIN:STANDARD
TZOFFSETFROM:-0400
TZOFFSETTO:-0500
TZNAME:EST
DTSTART:20251102T060000
END:STANDARD
BEGIN:DAYLIGHT
TZOFFSETFROM:-0500
TZOFFSETTO:-0400
TZNAME:EDT
DTSTART:20260308T070000
END:DAYLIGHT
BEGIN:STANDARD
TZOFFSETFROM:-0400
TZOFFSETTO:-0500
TZNAME:EST
DTSTART:20261101T060000
END:STANDARD
BEGIN:DAYLIGHT
TZOFFSETFROM:-0500
TZOFFSETTO:-0400
TZNAME:EDT
DTSTART:20270314T070000
END:DAYLIGHT
BEGIN:STANDARD
TZOFFSETFROM:-0400
TZOFFSETTO:-0500
TZNAME:EST
DTSTART:20271107T060000
END:STANDARD
END:VTIMEZONE
BEGIN:VEVENT
DTSTART;TZID=America/New_York:20260204T120000
DTEND;TZID=America/New_York:20260204T130000
DTSTAMP:20260421T154058
CREATED:20251212T143855Z
LAST-MODIFIED:20251212T145642Z
UID:4527-1770206400-1770210000@mainecan.network
SUMMARY:MAINECAN Community Coordinators Quarterly Meeting - February 2026
DESCRIPTION:MAINECAN convenes a quarterly meeting for community energy and resilience coordinators across Maine. This peer learning group discusses how coordinators can support community-led initiatives\, identifies gaps in community support\, and plans how to fill gaps and increase access to coordinator programs. \nContact info@mainecan.network for more information or to join the meeting. Meeting announcements are sent to the MAINECAN Google Group. Join MAINECAN to be added to the Google Group.
URL:https://mainecan.network/event/mainecan-community-coordinators-quarterly-meeting/
LOCATION:Zoom
ORGANIZER;CN="MAINECAN":MAILTO:info@mainecan.network
END:VEVENT
BEGIN:VEVENT
DTSTART;TZID=America/New_York:20260310T130000
DTEND;TZID=America/New_York:20260310T140000
DTSTAMP:20260421T154058
CREATED:20251212T143104Z
LAST-MODIFIED:20251212T150143Z
UID:4524-1773147600-1773151200@mainecan.network
SUMMARY:MAINECAN Interim Leadership Committee Quarterly Meeting - March 2026
DESCRIPTION:The Interim Leadership Committee meets quarterly to co-develop and propose a governance structure to the MAINECAN network members. \nContact info@mainecan.network for more information or if you would like to attend as a MAINECAN member.
URL:https://mainecan.network/event/mainecan-interim-leadership-committee-quarterly-meeting/
LOCATION:Zoom
CATEGORIES:Meeting
ORGANIZER;CN="MAINECAN":MAILTO:info@mainecan.network
END:VEVENT
BEGIN:VEVENT
DTSTART;TZID=America/New_York:20260326T080000
DTEND;TZID=America/New_York:20260326T170000
DTSTAMP:20260421T154058
CREATED:20251212T142522Z
LAST-MODIFIED:20251215T161948Z
UID:4522-1774512000-1774544400@mainecan.network
SUMMARY:MAINECAN Session @ 2026 Maine Sustainability & Water Conference
DESCRIPTION:The MAINECAN network will convene a full-day session at the 2026 Maine Sustainability & Water Conference. \nSee the MAINECAN session description at the conference website.
URL:https://mainecan.network/event/mainecan-session-maine-sustainability-water-conference/
LOCATION:Augusta Civic Center\, 76 Community Dr\, Augusta\, ME\, 04330\, United States
CATEGORIES:Conference
END:VEVENT
END:VCALENDAR