BEGIN:VCALENDAR
VERSION:2.0
PRODID:-//MAINECAN: Maine community-led Energy and Climate Action Network - ECPv6.15.17.1//NONSGML v1.0//EN
CALSCALE:GREGORIAN
METHOD:PUBLISH
X-WR-CALNAME:MAINECAN: Maine community-led Energy and Climate Action Network
X-ORIGINAL-URL:https://mainecan.network
X-WR-CALDESC:Events for MAINECAN: Maine community-led Energy and Climate Action Network
REFRESH-INTERVAL;VALUE=DURATION:PT1H
X-Robots-Tag:noindex
X-PUBLISHED-TTL:PT1H
BEGIN:VTIMEZONE
TZID:America/New_York
BEGIN:DAYLIGHT
TZOFFSETFROM:-0500
TZOFFSETTO:-0400
TZNAME:EDT
DTSTART:20240310T070000
END:DAYLIGHT
BEGIN:STANDARD
TZOFFSETFROM:-0400
TZOFFSETTO:-0500
TZNAME:EST
DTSTART:20241103T060000
END:STANDARD
BEGIN:DAYLIGHT
TZOFFSETFROM:-0500
TZOFFSETTO:-0400
TZNAME:EDT
DTSTART:20250309T070000
END:DAYLIGHT
BEGIN:STANDARD
TZOFFSETFROM:-0400
TZOFFSETTO:-0500
TZNAME:EST
DTSTART:20251102T060000
END:STANDARD
BEGIN:DAYLIGHT
TZOFFSETFROM:-0500
TZOFFSETTO:-0400
TZNAME:EDT
DTSTART:20260308T070000
END:DAYLIGHT
BEGIN:STANDARD
TZOFFSETFROM:-0400
TZOFFSETTO:-0500
TZNAME:EST
DTSTART:20261101T060000
END:STANDARD
END:VTIMEZONE
BEGIN:VEVENT
DTSTART;TZID=America/New_York:20251106T120000
DTEND;TZID=America/New_York:20251106T130000
DTSTAMP:20260421T184803
CREATED:20250314T154227Z
LAST-MODIFIED:20250609T185728Z
UID:1551-1762430400-1762434000@mainecan.network
SUMMARY:NRCM Monthly Climate Action Call - November 2025
DESCRIPTION:These Zoom meetings will give you a chance to meet our staff experts\, hear the latest climate & clean energy related updates at the State House and beyond\, and learn ways to take action and make a difference. We’ll focus on a different issue each month and send an agenda and what to expect before each call.
URL:https://mainecan.network/event/nrcm-monthly-climate-action-call-7/
LOCATION:Zoom
CATEGORIES:Meeting
END:VEVENT
BEGIN:VEVENT
DTSTART;TZID=America/New_York:20251105T120000
DTEND;TZID=America/New_York:20251105T130000
DTSTAMP:20260421T184803
CREATED:20251212T145654Z
LAST-MODIFIED:20251212T145654Z
UID:4533-1762344000-1762347600@mainecan.network
SUMMARY:MAINECAN Community Coordinators Quarterly Meeting - November 2026
DESCRIPTION:MAINECAN convenes a quarterly meeting for community energy and resilience coordinators across Maine. This peer learning group discusses how coordinators can support community-led initiatives\, identifies gaps in community support\, and plans how to fill gaps and increase access to coordinator programs. \nContact info@mainecan.network for more information or to join the meeting. Meeting announcements are sent to the MAINECAN Google Group. Join MAINECAN to be added to the Google Group.
URL:https://mainecan.network/event/mainecan-community-coordinators-quarterly-meeting-november-2026/
LOCATION:Zoom
CATEGORIES:Meeting
ORGANIZER;CN="MAINECAN":MAILTO:info@mainecan.network
END:VEVENT
BEGIN:VEVENT
DTSTART;TZID=America/New_York:20251103T120000
DTEND;TZID=America/New_York:20251103T130000
DTSTAMP:20260421T184803
CREATED:20250314T163908Z
LAST-MODIFIED:20250729T165458Z
UID:1628-1762171200-1762174800@mainecan.network
SUMMARY:Local Leads the Way November 2025 call (Date TBA)
DESCRIPTION:Check the website for the date and time of this meeting.  \nLocal Leads the Way provides support to communities throughout the state of Maine who are engaged in community-driven\, solutions-focused climate action. Local Leads the Way hosts monthly meetings open to anyone involved in or contemplating community-driven climate action. Through these meetings\, participants share resources\, build networks of support\, participate in trainings\, collaborate\, and reduce duplication of effort. Meetings typically take place the first Monday of each month at 4:00 p.m. We hope you will join us! Email johannah@aclimatetothrive.org with any questions or to express interest in Local Leads the Way!
URL:https://mainecan.network/event/local-leads-the-way-november-call/
LOCATION:Zoom
CATEGORIES:Discussion
END:VEVENT
BEGIN:VEVENT
DTSTART;TZID=America/New_York:20251021T120000
DTEND;TZID=America/New_York:20251021T130000
DTSTAMP:20260421T184803
CREATED:20250314T160233Z
LAST-MODIFIED:20250609T181223Z
UID:1582-1761048000-1761051600@mainecan.network
SUMMARY:Sierra Club Maine - Clean Energy Team Meeting - October 2025
DESCRIPTION:The Clean Energy Team of Sierra Club Maine deals with state-wide issues related to energy. The team seeks to educate the chapter members\, influence state policy\, and further the adoption of clean\, renewable energy. (Source: Sierra Club Maine event website)
URL:https://mainecan.network/event/clean-energy-team-meeting-7/
LOCATION:Zoom
CATEGORIES:Educational Event,Meeting
END:VEVENT
BEGIN:VEVENT
DTSTART;VALUE=DATE:20251016
DTEND;VALUE=DATE:20251017
DTSTAMP:20260421T184803
CREATED:20250826T151949Z
LAST-MODIFIED:20250826T151949Z
UID:3682-1760572800-1760659199@mainecan.network
SUMMARY:GrowSmart Maine Summit 2025
DESCRIPTION:Rural Opportunity Roadmap: Navigating Maine’s Future Amidst a Changing Policy Environment\n\n\n\n\n\n\n\n\nMaine’s rural communities are defined by local heritage and spirit\, and impacted\, for better or worse\, by the intersections of Federal\, state\, local policies and investments. This summit will delve into how Maine’s rural communities can navigate the complex interplay of federal\, state\, and local policies and investments to build resilient and prosperous futures\, while preserving their distinct sense of place. \n\n(Source: GrowSmart Maine website)
URL:https://mainecan.network/event/growsmart-maine-summit-2025/
LOCATION:Waterville Opera House\, 1 Common St\, Waterville\, ME\, 04901
END:VEVENT
BEGIN:VEVENT
DTSTART;TZID=America/New_York:20251006T120000
DTEND;TZID=America/New_York:20251006T130000
DTSTAMP:20260421T184803
CREATED:20250314T163631Z
LAST-MODIFIED:20250729T165434Z
UID:1626-1759752000-1759755600@mainecan.network
SUMMARY:Local Leads the Way October 2025 call (Date TBA)
DESCRIPTION:Check the website for the date and time of this meeting.  \nLocal Leads the Way provides support to communities throughout the state of Maine who are engaged in community-driven\, solutions-focused climate action. Local Leads the Way hosts monthly meetings open to anyone involved in or contemplating community-driven climate action. Through these meetings\, participants share resources\, build networks of support\, participate in trainings\, collaborate\, and reduce duplication of effort. Meetings typically take place the first Monday of each month. We hope you will join us! Email johannah@aclimatetothrive.org with any questions or to express interest in Local Leads the Way!
URL:https://mainecan.network/event/local-leads-the-way-october-call/
LOCATION:Zoom
CATEGORIES:Discussion
END:VEVENT
BEGIN:VEVENT
DTSTART;TZID=America/New_York:20251004T120000
DTEND;TZID=America/New_York:20251004T160000
DTSTAMP:20260421T184803
CREATED:20250729T203824Z
LAST-MODIFIED:20250729T203824Z
UID:3424-1759579200-1759593600@mainecan.network
SUMMARY:CEBE Energy Expo 2025
DESCRIPTION:Mark your calendars for our Energy Expo on Oct. 4\, 12-4pm at Oxford Hills Comprehensive High School! In our eleventh year of hosting this event\, we’re broadening from the Solar & EV Expo to acknowledge all of the other elements the Expo has come to include: weatherization\, heat pumps\, e-bikes\, and more. Come to learn how to help transition your home\, business\, and community to more affordable and efficient energy options\, while reducing pollution and lowering our collective carbon footprint. (Source: CEBE Newsletter)
URL:https://mainecan.network/event/cebe-energy-expo-2025/
LOCATION:Oxford Hills Comprehensive High School\, 256 Main St\, Norway\, ME
CATEGORIES:Fair
END:VEVENT
BEGIN:VEVENT
DTSTART;TZID=America/New_York:20251004T100000
DTEND;TZID=America/New_York:20251004T150000
DTSTAMP:20260421T184803
CREATED:20250826T163949Z
LAST-MODIFIED:20250826T164027Z
UID:3686-1759572000-1759590000@mainecan.network
SUMMARY:Waldo County Climate Action Coalition - Climate Resilience Fair 2025
DESCRIPTION:We invite everyone to participate in the 2025 Climate Resilience Fair\, organized by the Waldo County Climate Action Coalition and supported by 40+ local businesses and non-profits who will be there sharing resources and examples of ways to stay resilient and prepare for a changing climate. ​This FREE event includes family activities\, music\, electric vehicle (EV) car demonstrations\, and food truck vendors! \n(Source: Waldo County Climate Action Coalition website)
URL:https://mainecan.network/event/waldo-county-climate-action-coalition-climate-resilience-fair-2025/
LOCATION:Steamboat Landing Belfast\, 34 Commercial St\, Belfast\, ME 04915
CATEGORIES:Educational Event,Fair
ATTACH;FMTTYPE=image/png:https://mainecan.network/wp-content/uploads/2025/08/wccac-climate-resilience-fair-belfast-maine-october-2025_orig.png
END:VEVENT
BEGIN:VEVENT
DTSTART;TZID=America/New_York:20251002T120000
DTEND;TZID=America/New_York:20251002T130000
DTSTAMP:20260421T184803
CREATED:20250314T154118Z
LAST-MODIFIED:20250609T185751Z
UID:1549-1759406400-1759410000@mainecan.network
SUMMARY:NRCM Monthly Climate Action Call - October 2025
DESCRIPTION:These Zoom meetings will give you a chance to meet our staff experts\, hear the latest climate & clean energy related updates at the State House and beyond\, and learn ways to take action and make a difference. We’ll focus on a different issue each month and send an agenda and what to expect before each call.
URL:https://mainecan.network/event/nrcm-monthly-climate-action-call-6/
LOCATION:Zoom
CATEGORIES:Meeting
END:VEVENT
BEGIN:VEVENT
DTSTART;TZID=America/New_York:20250916T120000
DTEND;TZID=America/New_York:20250916T130000
DTSTAMP:20260421T184803
CREATED:20250314T160059Z
LAST-MODIFIED:20250609T181241Z
UID:1580-1758024000-1758027600@mainecan.network
SUMMARY:Sierra Club Maine - Clean Energy Team Meeting - September 2025
DESCRIPTION:The Clean Energy Team of Sierra Club Maine deals with state-wide issues related to energy. The team seeks to educate the chapter members\, influence state policy\, and further the adoption of clean\, renewable energy. (Source: Sierra Club Maine event website)
URL:https://mainecan.network/event/clean-energy-team-meeting-6/
LOCATION:Zoom
CATEGORIES:Meeting
END:VEVENT
BEGIN:VEVENT
DTSTART;TZID=America/New_York:20250908T120000
DTEND;TZID=America/New_York:20250908T130000
DTSTAMP:20260421T184803
CREATED:20250314T163443Z
LAST-MODIFIED:20250730T141509Z
UID:1624-1757332800-1757336400@mainecan.network
SUMMARY:Local Leads the Way September 2025 meeting 9/8
DESCRIPTION:Register at https://www.aclimatetothrive.org/localleadstheway \nLocal Leads the Way provides support to communities throughout the state of Maine who are engaged in community-driven\, solutions-focused climate action. Local Leads the Way hosts monthly meetings open to anyone involved in or contemplating community-driven climate action. Through these meetings\, participants share resources\, build networks of support\, participate in trainings\, collaborate\, and reduce duplication of effort. Meetings typically take place the first Monday of each month. We hope you will join us! Email johannah@aclimatetothrive.org with any questions or to express interest in Local Leads the Way!
URL:https://mainecan.network/event/local-leads-the-way-september-call/
LOCATION:Zoom
CATEGORIES:Discussion
END:VEVENT
BEGIN:VEVENT
DTSTART;TZID=America/New_York:20250904T120000
DTEND;TZID=America/New_York:20250904T130000
DTSTAMP:20260421T184803
CREATED:20250314T153940Z
LAST-MODIFIED:20250609T185813Z
UID:1547-1756987200-1756990800@mainecan.network
SUMMARY:NRCM Monthly Climate Action Call - September 2025
DESCRIPTION:These Zoom meetings will give you a chance to meet our staff experts\, hear the latest climate & clean energy related updates at the State House and beyond\, and learn ways to take action and make a difference. We’ll focus on a different issue each month and send an agenda and what to expect before each call.
URL:https://mainecan.network/event/nrcm-monthly-climate-action-call-5/
LOCATION:Zoom
CATEGORIES:Meeting
END:VEVENT
BEGIN:VEVENT
DTSTART;TZID=America/New_York:20250819T120000
DTEND;TZID=America/New_York:20250819T130000
DTSTAMP:20260421T184803
CREATED:20250807T164852Z
LAST-MODIFIED:20250807T164940Z
UID:3422-1755604800-1755608400@mainecan.network
SUMMARY:GPCOG & SMRCC Webinar: Bright ideas for a Stormy Future: Strengthening Southern Maine’s resilience to power outages
DESCRIPTION:The Greater Portland Council of Governments (GPCOG) and SMRCC are hosting Part 2 of the Municipal Grid Resilience Webinar series launched in June. The webinars explore how municipal staff\, elected officials\, and resilience committee members can influence regional grid planning. \nThe second session of this series will feature Karina Graeter\, Sustainability Division Director at Southern Maine Planning & Development Commission (SMPDC) who will discuss findings from grid reliability and power outage assessments across Southern Maine as part of the creation of SMPDC’s Southern Maine Energy Resilience Plan. Join the session to learn why outages occur\, the impacts on businesses\, governments\, and communities\, and to participate in the conversation on how to contribute to grid resilience. Access the Recording for Part 1 of the Grid Resilience Series. \n(Source: SMRCC August Newsletter)
URL:https://mainecan.network/event/gpcog-smrcc-webinar-bright-ideas-for-a-stormy-future-strengthening-southern-maines-resilience-to-power-outages-gpcog-and-smrcc-grid-resilience-series-session-two/
CATEGORIES:Webinar
END:VEVENT
BEGIN:VEVENT
DTSTART;TZID=America/New_York:20250819T120000
DTEND;TZID=America/New_York:20250819T130000
DTSTAMP:20260421T184803
CREATED:20250314T155945Z
LAST-MODIFIED:20250609T181334Z
UID:1578-1755604800-1755608400@mainecan.network
SUMMARY:Sierra Club Maine - Clean Energy Team Meeting - August 2025
DESCRIPTION:The Clean Energy Team of Sierra Club Maine deals with state-wide issues related to energy. The team seeks to educate the chapter members\, influence state policy\, and further the adoption of clean\, renewable energy. (Source: Sierra Club Maine event website)
URL:https://mainecan.network/event/clean-energy-team-meeting-5/
LOCATION:Zoom
CATEGORIES:Meeting
END:VEVENT
BEGIN:VEVENT
DTSTART;TZID=America/New_York:20250807T120000
DTEND;TZID=America/New_York:20250807T130000
DTSTAMP:20260421T184803
CREATED:20250314T153833Z
LAST-MODIFIED:20250609T185833Z
UID:1545-1754568000-1754571600@mainecan.network
SUMMARY:NRCM Monthly Climate Action Call - August 2025
DESCRIPTION:These Zoom meetings will give you a chance to meet our staff experts\, hear the latest climate & clean energy related updates at the State House and beyond\, and learn ways to take action and make a difference. We’ll focus on a different issue each month and send an agenda and what to expect before each call.
URL:https://mainecan.network/event/nrcm-monthly-climate-action-call-4/
LOCATION:Zoom
CATEGORIES:Meeting
END:VEVENT
BEGIN:VEVENT
DTSTART;TZID=America/New_York:20250806T170000
DTEND;TZID=America/New_York:20250806T190000
DTSTAMP:20260421T184803
CREATED:20250729T165108Z
LAST-MODIFIED:20250729T165108Z
UID:3411-1754499600-1754506800@mainecan.network
SUMMARY:E2Tech Summer Social in Freeport 8/6/2025
DESCRIPTION:August 6 at Maine Beer Company in Freeport\, 5:00-7:00 pm. \nE2Tech’s Summer Social is a favorite tradition—an opportunity to share stories of success (and failure)\, explore what’s new in Maine’s growing green economy\, and connect with colleagues and change-makers. Last year’s event welcomed 114 participants\, and with developments unfolding in Maine\, across the U.S.\, and beyond\, there will be lots to discuss. We’re thrilled to return to Maine Beer Company in Freeport for an evening of great food\, drinks\, and fellowship on Wednesday\, August 6. We hope to see you there! (Sign up here)
URL:https://mainecan.network/event/e2tech-summer-social-in-freeport-8-6-2025/
LOCATION:Freeport\, ME\, Freeport\, ME
END:VEVENT
BEGIN:VEVENT
DTSTART;TZID=America/New_York:20250729T120000
DTEND;TZID=America/New_York:20250729T130000
DTSTAMP:20260421T184803
CREATED:20250729T192118Z
LAST-MODIFIED:20250729T192118Z
UID:3419-1753790400-1753794000@mainecan.network
SUMMARY:SMRCC Communities & Service Providers Online Gathering
DESCRIPTION:This online event is open to all communities and service providers located or working in the SMRCC region: York\, Southern Oxford\, Cumberland\, Lincoln\, Sagadahoc\, Knox\, and Southern Waldo Counties as well as Regional Coordinators\, Service Providers\, and local leaders serving communities in other Maine counties. Join the conversation for a chance to connect\, share updates\, highlight local projects\, and hear about funding opportunities and regional initiatives.
URL:https://mainecan.network/event/smrcc-communities-service-providers-online-gathering/
CATEGORIES:Discussion,Webinar
END:VEVENT
BEGIN:VEVENT
DTSTART;TZID=America/New_York:20250715T120000
DTEND;TZID=America/New_York:20250715T130000
DTSTAMP:20260421T184803
CREATED:20250314T155821Z
LAST-MODIFIED:20250609T181441Z
UID:1576-1752580800-1752584400@mainecan.network
SUMMARY:Sierra Club Maine - Clean Energy Team Meeting - July 2025
DESCRIPTION:The Clean Energy Team of Sierra Club Maine deals with state-wide issues related to energy. The team seeks to educate the chapter members\, influence state policy\, and further the adoption of clean\, renewable energy. (Source: Sierra Club Maine event website)
URL:https://mainecan.network/event/clean-energy-team-meeting-4/
LOCATION:Zoom
CATEGORIES:Educational Event,Meeting
END:VEVENT
BEGIN:VEVENT
DTSTART;TZID=America/New_York:20250709T160000
DTEND;TZID=America/New_York:20250709T180000
DTSTAMP:20260421T184803
CREATED:20250609T151720Z
LAST-MODIFIED:20250609T151720Z
UID:3043-1752076800-1752084000@mainecan.network
SUMMARY:E2Tech July Networking in Bangor
DESCRIPTION:Calling all environmental\, energy\, clean technology\, and other professionals in the Bangor area–join us for an after work evening of networking at Sea Dog Brewery in Bangor. (Source: E2Tech website)
URL:https://mainecan.network/event/e2tech-july-networking-in-bangor/
LOCATION:Sea Dog Brewery\, 26 Front St\, Bangor\, ME\, United States
END:VEVENT
BEGIN:VEVENT
DTSTART;TZID=America/New_York:20250626T120000
DTEND;TZID=America/New_York:20250626T130000
DTSTAMP:20260421T184803
CREATED:20250609T193903Z
LAST-MODIFIED:20250609T193903Z
UID:3111-1750939200-1750942800@mainecan.network
SUMMARY:NRCM Webinar - Maine's Environment in the 2025 Legislative Session: Progress & Outcomes
DESCRIPTION:What happened in Augusta this year—and what does it mean for Maine’s environment? \nJoin NRCM’s staff experts for our annual end-of-session webinar to hear about which bills passed\, which didn’t\, and what’s next in our work to protect what we love about Maine’s environment. \nWe’ll break down the biggest wins and setbacks from the 2025 legislative session\, from clean energy and land conservation to waste reduction and tribal sovereignty. Learn how people like you helped shape the outcomes and how we can keep the momentum going. \n(Source: NRCM event website)
URL:https://mainecan.network/event/nrcm-webinar-maines-environment-in-the-2025-legislative-session-progress-outcomes/
LOCATION:Zoom
CATEGORIES:Webinar
END:VEVENT
BEGIN:VEVENT
DTSTART;TZID=America/New_York:20250623T120000
DTEND;TZID=America/New_York:20250623T130000
DTSTAMP:20260421T184803
CREATED:20250314T163059Z
LAST-MODIFIED:20250609T132947Z
UID:1618-1750680000-1750683600@mainecan.network
SUMMARY:Local Leads the Way June 2025 call
DESCRIPTION:Local Leads the Way provides support to communities throughout the state of Maine who are engaged in community-driven\, solutions-focused climate action. Local Leads the Way hosts monthly meetings open to anyone involved in or contemplating community-driven climate action. Through these meetings\, participants share resources\, build networks of support\, participate in trainings\, collaborate\, and reduce duplication of effort. Meetings typically take place the first Monday of each month. We hope you will join us! Email johannah@aclimatetothrive.org with any questions or to express interest in Local Leads the Way!
URL:https://mainecan.network/event/local-leads-the-way-june-call/
LOCATION:Zoom
CATEGORIES:Discussion
END:VEVENT
BEGIN:VEVENT
DTSTART;TZID=America/New_York:20250617T120000
DTEND;TZID=America/New_York:20250617T130000
DTSTAMP:20260421T184803
CREATED:20250314T155707Z
LAST-MODIFIED:20250609T160826Z
UID:1574-1750161600-1750165200@mainecan.network
SUMMARY:Sierra Club Maine - Clean Energy Team Meeting - June 2025
DESCRIPTION:The Clean Energy Team of Sierra Club Maine deals with state-wide issues related to energy. The team seeks to educate the chapter members\, influence state policy\, and further the adoption of clean\, renewable energy. (Source: Sierra Club Maine event website)
URL:https://mainecan.network/event/clean-energy-team-meeting-3/
LOCATION:Zoom
CATEGORIES:Educational Event,Meeting
END:VEVENT
BEGIN:VEVENT
DTSTART;TZID=America/New_York:20250605T120000
DTEND;TZID=America/New_York:20250605T130000
DTSTAMP:20260421T184803
CREATED:20250314T153728Z
LAST-MODIFIED:20250609T190312Z
UID:1543-1749124800-1749128400@mainecan.network
SUMMARY:NRCM Monthly Climate Action Call - June 2025
DESCRIPTION:These Zoom meetings will give you a chance to meet our staff experts\, hear the latest climate & clean energy related updates at the State House and beyond\, and learn ways to take action and make a difference. We’ll focus on a different issue each month and send an agenda and what to expect before each call.
URL:https://mainecan.network/event/nrcm-monthly-climate-action-call-3/
LOCATION:Zoom
CATEGORIES:Meeting
END:VEVENT
BEGIN:VEVENT
DTSTART;TZID=America/New_York:20250522T153000
DTEND;TZID=America/New_York:20250522T170000
DTSTAMP:20260421T184803
CREATED:20250314T162215Z
LAST-MODIFIED:20250314T162215Z
UID:1608-1747927800-1747933200@mainecan.network
SUMMARY:STEAM Team ~ Lift off into Bird Data: Unleashing the Power of Community Science
DESCRIPTION:What is a naturalist? Learn how to observe\, record\, and contribute to real world science using powerful tools like eBird\, BirdCast\, Merlin\, and the Motus tracking system. Through hands-on activities\, you will collect valuable data that supports ongoing research and conservation efforts–because every observation counts! We will then apply these skills on a short bird walk led by a Maine Audubon naturalist. Free event for ages 8-12.
URL:https://mainecan.network/event/steam-team-lift-off-into-bird-data-unleashing-the-power-of-community-science/
LOCATION:Belfast Free Library\, 106 High St\, Belfast\, ME\, 04915\, United States
CATEGORIES:Educational Event
END:VEVENT
BEGIN:VEVENT
DTSTART;TZID=America/New_York:20250520T120000
DTEND;TZID=America/New_York:20250520T130000
DTSTAMP:20260421T184803
CREATED:20250314T155533Z
LAST-MODIFIED:20250609T164030Z
UID:1572-1747742400-1747746000@mainecan.network
SUMMARY:Sierra Club Maine – Clean Energy Team Meeting – May 2025
DESCRIPTION:Sierra Club’s monthly Clean Energy Team meeting
URL:https://mainecan.network/event/clean-energy-team-meeting-2/
LOCATION:Zoom
CATEGORIES:Educational Event,Meeting
END:VEVENT
BEGIN:VEVENT
DTSTART;TZID=America/New_York:20250516T090000
DTEND;TZID=America/New_York:20250517T170000
DTSTAMP:20260421T184803
CREATED:20250314T151319Z
LAST-MODIFIED:20250609T181655Z
UID:1519-1747386000-1747501200@mainecan.network
SUMMARY:CEBE - 2030 Vision Climate Convergence 2025
DESCRIPTION:Save the date for our sixth annual Climate Convergence in Norway\, Maine!
URL:https://mainecan.network/event/sixth-annual-climate-convergence/
LOCATION:Center for an Ecology-Based Economy\, 447 Main St\, Norway\, ME\, 04268\, United States
CATEGORIES:Conference,Educational Event,Fair
END:VEVENT
BEGIN:VEVENT
DTSTART;TZID=America/New_York:20250508T080000
DTEND;TZID=America/New_York:20250508T170000
DTSTAMP:20260421T184803
CREATED:20250314T153320Z
LAST-MODIFIED:20250609T190445Z
UID:1535-1746691200-1746723600@mainecan.network
SUMMARY:ClimateWork Maine - 3rd Annual Summit on Maine's Economy & Climate Change
DESCRIPTION:Join ClimateWork Maine for the 3rd Annual Summit on Maine’s Economy & Climate Change. This pivotal event will take place on May 8\, 2025\, and it promises to be a day filled with informative sessions and engaging discussions that focus on actionable climate solutions.
URL:https://mainecan.network/event/3rd-annual-summit-on-maines-economy-climate-change/
LOCATION:Augusta Civic Center\, 76 Community Dr\, Augusta\, ME\, 04330\, United States
CATEGORIES:Conference
END:VEVENT
BEGIN:VEVENT
DTSTART;TZID=America/New_York:20250501T120000
DTEND;TZID=America/New_York:20250501T130000
DTSTAMP:20260421T184803
CREATED:20250314T153617Z
LAST-MODIFIED:20250609T190253Z
UID:1541-1746100800-1746104400@mainecan.network
SUMMARY:NRCM Monthly Climate Action Call - May 2025
DESCRIPTION:These Zoom meetings will give you a chance to meet our staff experts\, hear the latest climate & clean energy related updates at the State House and beyond\, and learn ways to take action and make a difference. We’ll focus on a different issue each month and send an agenda and what to expect before each call.
URL:https://mainecan.network/event/nrcm-monthly-climate-action-call-2/
LOCATION:Zoom
CATEGORIES:Meeting
END:VEVENT
BEGIN:VEVENT
DTSTART;VALUE=DATE:20250430
DTEND;VALUE=DATE:20250501
DTSTAMP:20260421T184803
CREATED:20250314T164141Z
LAST-MODIFIED:20250609T190333Z
UID:1632-1745971200-1746057599@mainecan.network
SUMMARY:ACTT Community-Driven Energy Planning Workshop Series
DESCRIPTION:ACTT is excited to bring the community-driven energy planning workshop and accompanying game to MDI. Save the date to join us Wednesday evening\, April 30 for collaborative learning\, game playing\, dinner\, and fun! We will follow up with specifics regarding location and time. This workshop is appropriate for participants ages 13 and older and is ideal for a mixture of formal and informal community leaders and interested citizens. Anyone with an interest in MDI’s energy future is encouraged to attend.
URL:https://mainecan.network/event/community-driven-energy-planning-workshop-series/
CATEGORIES:Educational Event
END:VEVENT
BEGIN:VEVENT
DTSTART;TZID=America/New_York:20250426T100000
DTEND;TZID=America/New_York:20250426T120000
DTSTAMP:20260421T184803
CREATED:20250314T161154Z
LAST-MODIFIED:20250609T190416Z
UID:1592-1745661600-1745668800@mainecan.network
SUMMARY:Sierra Club Maine - Earth Day Clean-up at Back Cove Trail\, Portland
DESCRIPTION:Please join us at the Back Cove Trail in Portland for a clean up of the beautiful trail. One of the oldest and most popular of the trails in Portland\, Back Cove offers great views of the Portland skyline. Ideal for walking\, running\, biking and dog walking. There are benches and two water fountains (seasonal) along the trail. Portable toilets are available in the parking areas at Preble Street Extension and Payson Park.
URL:https://mainecan.network/event/earth-day-clean-up-at-back-cove-trail-portland/
LOCATION:Back Cove Trail\, 288 Clifton St\, Portland\, ME\, 04103\, United States
CATEGORIES:Other
END:VEVENT
END:VCALENDAR