BEGIN:VCALENDAR
VERSION:2.0
PRODID:-//MAINECAN: Maine community-led Energy and Climate Action Network - ECPv6.15.17.1//NONSGML v1.0//EN
CALSCALE:GREGORIAN
METHOD:PUBLISH
X-WR-CALNAME:MAINECAN: Maine community-led Energy and Climate Action Network
X-ORIGINAL-URL:https://mainecan.network
X-WR-CALDESC:Events for MAINECAN: Maine community-led Energy and Climate Action Network
REFRESH-INTERVAL;VALUE=DURATION:PT1H
X-Robots-Tag:noindex
X-PUBLISHED-TTL:PT1H
BEGIN:VTIMEZONE
TZID:America/New_York
BEGIN:DAYLIGHT
TZOFFSETFROM:-0500
TZOFFSETTO:-0400
TZNAME:EDT
DTSTART:20240310T070000
END:DAYLIGHT
BEGIN:STANDARD
TZOFFSETFROM:-0400
TZOFFSETTO:-0500
TZNAME:EST
DTSTART:20241103T060000
END:STANDARD
BEGIN:DAYLIGHT
TZOFFSETFROM:-0500
TZOFFSETTO:-0400
TZNAME:EDT
DTSTART:20250309T070000
END:DAYLIGHT
BEGIN:STANDARD
TZOFFSETFROM:-0400
TZOFFSETTO:-0500
TZNAME:EST
DTSTART:20251102T060000
END:STANDARD
BEGIN:DAYLIGHT
TZOFFSETFROM:-0500
TZOFFSETTO:-0400
TZNAME:EDT
DTSTART:20260308T070000
END:DAYLIGHT
BEGIN:STANDARD
TZOFFSETFROM:-0400
TZOFFSETTO:-0500
TZNAME:EST
DTSTART:20261101T060000
END:STANDARD
END:VTIMEZONE
BEGIN:VEVENT
DTSTART;TZID=America/New_York:20250819T120000
DTEND;TZID=America/New_York:20250819T130000
DTSTAMP:20260419T115336
CREATED:20250807T164852Z
LAST-MODIFIED:20250807T164940Z
UID:3422-1755604800-1755608400@mainecan.network
SUMMARY:GPCOG & SMRCC Webinar: Bright ideas for a Stormy Future: Strengthening Southern Maine’s resilience to power outages
DESCRIPTION:The Greater Portland Council of Governments (GPCOG) and SMRCC are hosting Part 2 of the Municipal Grid Resilience Webinar series launched in June. The webinars explore how municipal staff\, elected officials\, and resilience committee members can influence regional grid planning. \nThe second session of this series will feature Karina Graeter\, Sustainability Division Director at Southern Maine Planning & Development Commission (SMPDC) who will discuss findings from grid reliability and power outage assessments across Southern Maine as part of the creation of SMPDC’s Southern Maine Energy Resilience Plan. Join the session to learn why outages occur\, the impacts on businesses\, governments\, and communities\, and to participate in the conversation on how to contribute to grid resilience. Access the Recording for Part 1 of the Grid Resilience Series. \n(Source: SMRCC August Newsletter)
URL:https://mainecan.network/event/gpcog-smrcc-webinar-bright-ideas-for-a-stormy-future-strengthening-southern-maines-resilience-to-power-outages-gpcog-and-smrcc-grid-resilience-series-session-two/
CATEGORIES:Webinar
END:VEVENT
END:VCALENDAR