BEGIN:VCALENDAR
VERSION:2.0
PRODID:-//MAINECAN: Maine community-led Energy and Climate Action Network - ECPv6.15.17.1//NONSGML v1.0//EN
CALSCALE:GREGORIAN
METHOD:PUBLISH
X-WR-CALNAME:MAINECAN: Maine community-led Energy and Climate Action Network
X-ORIGINAL-URL:https://mainecan.network
X-WR-CALDESC:Events for MAINECAN: Maine community-led Energy and Climate Action Network
REFRESH-INTERVAL;VALUE=DURATION:PT1H
X-Robots-Tag:noindex
X-PUBLISHED-TTL:PT1H
BEGIN:VTIMEZONE
TZID:America/New_York
BEGIN:DAYLIGHT
TZOFFSETFROM:-0500
TZOFFSETTO:-0400
TZNAME:EDT
DTSTART:20240310T070000
END:DAYLIGHT
BEGIN:STANDARD
TZOFFSETFROM:-0400
TZOFFSETTO:-0500
TZNAME:EST
DTSTART:20241103T060000
END:STANDARD
BEGIN:DAYLIGHT
TZOFFSETFROM:-0500
TZOFFSETTO:-0400
TZNAME:EDT
DTSTART:20250309T070000
END:DAYLIGHT
BEGIN:STANDARD
TZOFFSETFROM:-0400
TZOFFSETTO:-0500
TZNAME:EST
DTSTART:20251102T060000
END:STANDARD
BEGIN:DAYLIGHT
TZOFFSETFROM:-0500
TZOFFSETTO:-0400
TZNAME:EDT
DTSTART:20260308T070000
END:DAYLIGHT
BEGIN:STANDARD
TZOFFSETFROM:-0400
TZOFFSETTO:-0500
TZNAME:EST
DTSTART:20261101T060000
END:STANDARD
END:VTIMEZONE
BEGIN:VEVENT
DTSTART;TZID=America/New_York:20250626T120000
DTEND;TZID=America/New_York:20250626T130000
DTSTAMP:20260419T150316
CREATED:20250609T193903Z
LAST-MODIFIED:20250609T193903Z
UID:3111-1750939200-1750942800@mainecan.network
SUMMARY:NRCM Webinar - Maine's Environment in the 2025 Legislative Session: Progress & Outcomes
DESCRIPTION:What happened in Augusta this year—and what does it mean for Maine’s environment? \nJoin NRCM’s staff experts for our annual end-of-session webinar to hear about which bills passed\, which didn’t\, and what’s next in our work to protect what we love about Maine’s environment. \nWe’ll break down the biggest wins and setbacks from the 2025 legislative session\, from clean energy and land conservation to waste reduction and tribal sovereignty. Learn how people like you helped shape the outcomes and how we can keep the momentum going. \n(Source: NRCM event website)
URL:https://mainecan.network/event/nrcm-webinar-maines-environment-in-the-2025-legislative-session-progress-outcomes/
LOCATION:Zoom
CATEGORIES:Webinar
END:VEVENT
END:VCALENDAR