BEGIN:VCALENDAR
VERSION:2.0
PRODID:-//MAINECAN: Maine community-led Energy and Climate Action Network - ECPv6.15.17.1//NONSGML v1.0//EN
CALSCALE:GREGORIAN
METHOD:PUBLISH
X-ORIGINAL-URL:https://mainecan.network
X-WR-CALDESC:Events for MAINECAN: Maine community-led Energy and Climate Action Network
REFRESH-INTERVAL;VALUE=DURATION:PT1H
X-Robots-Tag:noindex
X-PUBLISHED-TTL:PT1H
BEGIN:VTIMEZONE
TZID:America/New_York
BEGIN:DAYLIGHT
TZOFFSETFROM:-0500
TZOFFSETTO:-0400
TZNAME:EDT
DTSTART:20240310T070000
END:DAYLIGHT
BEGIN:STANDARD
TZOFFSETFROM:-0400
TZOFFSETTO:-0500
TZNAME:EST
DTSTART:20241103T060000
END:STANDARD
BEGIN:DAYLIGHT
TZOFFSETFROM:-0500
TZOFFSETTO:-0400
TZNAME:EDT
DTSTART:20250309T070000
END:DAYLIGHT
BEGIN:STANDARD
TZOFFSETFROM:-0400
TZOFFSETTO:-0500
TZNAME:EST
DTSTART:20251102T060000
END:STANDARD
BEGIN:DAYLIGHT
TZOFFSETFROM:-0500
TZOFFSETTO:-0400
TZNAME:EDT
DTSTART:20260308T070000
END:DAYLIGHT
BEGIN:STANDARD
TZOFFSETFROM:-0400
TZOFFSETTO:-0500
TZNAME:EST
DTSTART:20261101T060000
END:STANDARD
END:VTIMEZONE
BEGIN:VEVENT
DTSTART;TZID=America/New_York:20250421T150000
DTEND;TZID=America/New_York:20250421T160000
DTSTAMP:20260419T182636
CREATED:20250314T165742Z
LAST-MODIFIED:20250609T190611Z
UID:1647-1745247600-1745251200@mainecan.network
SUMMARY:Mitchell Center - Talk – Reconciling with resilience: How Maine can bounce back from floods
DESCRIPTION:Last winter’s devastating storms revealed just how vulnerable Maine communities are to flooding\, whether they’re behind seawalls along the coast or nestled on rivers in the state’s mountainous interior. In the aftermath of that flooding\, Maine Monitor reporter Emmett Gartner traveled across the state to report on how effectively communities weathered the storms\, speaking with local officials about their plans to fortify their towns against the rising seas and more frequent\, intensifying storms brought on by climate change. Join Emmett at the University of Maine’s Senator George J. Mitchell Center for Sustainability Solutions on April 21 at 3PM as he discusses his reporting on the challenges Maine faces in building resilience to flooding and what solutions exist at the state and local levels to prepare Maine for what’s to come.
URL:https://mainecan.network/event/talk-reconciling-with-resilience-how-maine-can-bounce-back-from-floods/
LOCATION:Mitchell Center\, 107 Norman Smith Hall\, UMaine\, Orono\, ME\, 04469\, United States
CATEGORIES:Educational Event,Webinar
END:VEVENT
END:VCALENDAR