BEGIN:VCALENDAR
VERSION:2.0
PRODID:-//MAINECAN: Maine community-led Energy and Climate Action Network - ECPv6.15.17.1//NONSGML v1.0//EN
CALSCALE:GREGORIAN
METHOD:PUBLISH
X-ORIGINAL-URL:https://mainecan.network
X-WR-CALDESC:Events for MAINECAN: Maine community-led Energy and Climate Action Network
REFRESH-INTERVAL;VALUE=DURATION:PT1H
X-Robots-Tag:noindex
X-PUBLISHED-TTL:PT1H
BEGIN:VTIMEZONE
TZID:America/New_York
BEGIN:DAYLIGHT
TZOFFSETFROM:-0500
TZOFFSETTO:-0400
TZNAME:EDT
DTSTART:20240310T070000
END:DAYLIGHT
BEGIN:STANDARD
TZOFFSETFROM:-0400
TZOFFSETTO:-0500
TZNAME:EST
DTSTART:20241103T060000
END:STANDARD
BEGIN:DAYLIGHT
TZOFFSETFROM:-0500
TZOFFSETTO:-0400
TZNAME:EDT
DTSTART:20250309T070000
END:DAYLIGHT
BEGIN:STANDARD
TZOFFSETFROM:-0400
TZOFFSETTO:-0500
TZNAME:EST
DTSTART:20251102T060000
END:STANDARD
BEGIN:DAYLIGHT
TZOFFSETFROM:-0500
TZOFFSETTO:-0400
TZNAME:EDT
DTSTART:20260308T070000
END:DAYLIGHT
BEGIN:STANDARD
TZOFFSETFROM:-0400
TZOFFSETTO:-0500
TZNAME:EST
DTSTART:20261101T060000
END:STANDARD
END:VTIMEZONE
BEGIN:VEVENT
DTSTART;TZID=America/New_York:20250318T100000
DTEND;TZID=America/New_York:20250318T110000
DTSTAMP:20260419T182223
CREATED:20250314T171537Z
LAST-MODIFIED:20250609T193252Z
UID:1654-1742292000-1742295600@mainecan.network
SUMMARY:GEO & GOPIF - Direct Pay Webinar for Municipalities and Tribal Governments
DESCRIPTION:GEO and GOPIF will be hosting a series of webinars in the coming weeks for eligible entities to learn more about filing for Direct Pay.
URL:https://mainecan.network/event/direct-pay-webinar-for-municipalities-and-tribal-governments/
LOCATION:Zoom
CATEGORIES:Webinar
END:VEVENT
BEGIN:VEVENT
DTSTART;TZID=America/New_York:20250319T143000
DTEND;TZID=America/New_York:20250319T153000
DTSTAMP:20260419T182223
CREATED:20250314T153002Z
LAST-MODIFIED:20250609T193602Z
UID:1528-1742394600-1742398200@mainecan.network
SUMMARY:Region 2 TCTAC - Webinar: Designing a Resilience Hub
DESCRIPTION:Increasingly\, community institutions are equipping their facilities with renewable and reliable backup power – solar paired with battery storage systems – as part of their efforts to become a Resilience Hub. Join Region 2 Thriving Communities Technical Assistance Center (TCTAC) in this virtual training where Clean Energy Group will delve into resilient power topics and provide time for the audience to ask any questions about designing a Resilience Hub.
URL:https://mainecan.network/event/webinar-designing-a-resilience-hub/
LOCATION:Zoom
CATEGORIES:Webinar
END:VEVENT
BEGIN:VEVENT
DTSTART;TZID=America/New_York:20250320T130000
DTEND;TZID=America/New_York:20250320T140000
DTSTAMP:20260419T182223
CREATED:20250314T171718Z
LAST-MODIFIED:20250609T193317Z
UID:1659-1742475600-1742479200@mainecan.network
SUMMARY:GEO & GOPIF - Direct Pay Webinar for Schools and Higher Education Institutions
DESCRIPTION:GEO and GOPIF will be hosting a series of webinars in the coming weeks for eligible entities to learn more about filing for Direct Pay.
URL:https://mainecan.network/event/direct-pay-webinar-for-schools-and-higher-education-institutions/
LOCATION:Zoom
CATEGORIES:Webinar
END:VEVENT
BEGIN:VEVENT
DTSTART;TZID=America/New_York:20250321T120000
DTEND;TZID=America/New_York:20250321T140000
DTSTAMP:20260419T182223
CREATED:20250314T171845Z
LAST-MODIFIED:20250609T193431Z
UID:1661-1742558400-1742565600@mainecan.network
SUMMARY:GEO & GOPIF - Direct Pay Webinar for Non-profits and Other Tax-exempt Entities
DESCRIPTION:GEO and GOPIF will be hosting a series of webinars in the coming weeks for eligible entities to learn more about filing for Direct Pay.
URL:https://mainecan.network/event/direct-pay-webinar-for-non-profits-and-other-tax-exempt-entities/
LOCATION:Zoom
CATEGORIES:Webinar
END:VEVENT
BEGIN:VEVENT
DTSTART;TZID=America/New_York:20250324T150000
DTEND;TZID=America/New_York:20250324T160000
DTSTAMP:20260419T182223
CREATED:20250314T164825Z
LAST-MODIFIED:20250609T193226Z
UID:1637-1742828400-1742832000@mainecan.network
SUMMARY:Mitchell Center - Panel Discussion – The Tekαkαpimək Contact Station at Katahdin Woods & Waters
DESCRIPTION:Tekαkαpimək Contact Station is a stunning 7\,900 square-foot building and 23-acre site atop Lookout Mountain created to welcome the global public to Katahdin Woods and Waters National Monument. The monument is located within the present and traditional homeland of the Penobscot Nation. The land and waters hold special significance to the Penobscot Nation and is inextricably linked with Penobscot culture\, ceremonies\, oral traditions\, language\, history\, and Indigenous stewardship which continues the respectful relationship with the land and waterways that has gone back more than 11\,000 years. Katahdin is a culturally significant place to the Wabanaki people where connecting watersheds provide important travel routes for Wabanaki people of Maine\, comprised of Maliseet\, Mi’kmaq\, Passamaquoddy\, and Penobscot Nations.
URL:https://mainecan.network/event/panel-discussion-the-tek%ce%b1k%ce%b1pim%c9%99k-contact-station-at-katahdin-woods-waters/
LOCATION:Mitchell Center\, 107 Norman Smith Hall\, UMaine\, Orono\, ME\, 04469\, United States
CATEGORIES:Meeting,Webinar
END:VEVENT
BEGIN:VEVENT
DTSTART;TZID=America/New_York:20250324T150000
DTEND;TZID=America/New_York:20250324T160000
DTSTAMP:20260419T182223
CREATED:20250314T171955Z
LAST-MODIFIED:20250609T193404Z
UID:1663-1742828400-1742832000@mainecan.network
SUMMARY:GEO & GOPIF - Direct Pay Webinar for all eligible entities
DESCRIPTION:GEO and GOPIF will be hosting a series of webinars in the coming weeks for eligible entities to learn more about filing for Direct Pay.
URL:https://mainecan.network/event/direct-pay-webinar-for-all-eligible-entities/
LOCATION:Zoom
CATEGORIES:Webinar
END:VEVENT
BEGIN:VEVENT
DTSTART;TZID=America/New_York:20250331T150000
DTEND;TZID=America/New_York:20250331T160000
DTSTAMP:20260419T182223
CREATED:20250314T165055Z
LAST-MODIFIED:20250609T193339Z
UID:1641-1743433200-1743436800@mainecan.network
SUMMARY:Mitchell Center - Talk – Scallop Aquaculture in the Gulf of Maine: Challenges\, Opportunities\, and Lessons Learned
DESCRIPTION:Dr. Damian C. Brady is a Professor of Oceanography based at the Darling Marine Center. His research interests\, while broad\, focus on how models can inform better decision-making in marine ecosystems to reflect the values of the coastal communities that rely on them. The decision-making contexts have included aquaculture\, offshore wind\, marine carbon dioxide removal\, the American lobster fishery\, sea-run fish\, and coastal water quality. The Gulf of Maine is an important economic driver for the region with important fisheries and aquaculture operations; however\, dynamic new ocean industries are emerging\, such as recirculating aquaculture systems\, floating offshore wind\, and marine carbon dioxide removal. Many of these new and emerging technologies purport to address our pressing climate change induced challenges. To determine whether these emerging technologies can address these challenges\, our team develops\, calibrates\, and validates tools\, such as techno-economic analyses\, marine ecosystem models\, remote sensing\, and oceanographic buoys\, to collect objective\, science-based information and importantly\, communicate these results to coastal communities.
URL:https://mainecan.network/event/talk-scallop-aquaculture-in-the-gulf-of-maine-challenges-opportunities-and-lessons-learned/
LOCATION:Mitchell Center\, 107 Norman Smith Hall\, UMaine\, Orono\, ME\, 04469\, United States
CATEGORIES:Educational Event,Webinar
END:VEVENT
END:VCALENDAR