BEGIN:VCALENDAR
VERSION:2.0
PRODID:-//MAINECAN: Maine community-led Energy and Climate Action Network - ECPv6.15.17.1//NONSGML v1.0//EN
CALSCALE:GREGORIAN
METHOD:PUBLISH
X-ORIGINAL-URL:https://mainecan.network
X-WR-CALDESC:Events for MAINECAN: Maine community-led Energy and Climate Action Network
REFRESH-INTERVAL;VALUE=DURATION:PT1H
X-Robots-Tag:noindex
X-PUBLISHED-TTL:PT1H
BEGIN:VTIMEZONE
TZID:America/New_York
BEGIN:DAYLIGHT
TZOFFSETFROM:-0500
TZOFFSETTO:-0400
TZNAME:EDT
DTSTART:20240310T070000
END:DAYLIGHT
BEGIN:STANDARD
TZOFFSETFROM:-0400
TZOFFSETTO:-0500
TZNAME:EST
DTSTART:20241103T060000
END:STANDARD
BEGIN:DAYLIGHT
TZOFFSETFROM:-0500
TZOFFSETTO:-0400
TZNAME:EDT
DTSTART:20250309T070000
END:DAYLIGHT
BEGIN:STANDARD
TZOFFSETFROM:-0400
TZOFFSETTO:-0500
TZNAME:EST
DTSTART:20251102T060000
END:STANDARD
BEGIN:DAYLIGHT
TZOFFSETFROM:-0500
TZOFFSETTO:-0400
TZNAME:EDT
DTSTART:20260308T070000
END:DAYLIGHT
BEGIN:STANDARD
TZOFFSETFROM:-0400
TZOFFSETTO:-0500
TZNAME:EST
DTSTART:20261101T060000
END:STANDARD
END:VTIMEZONE
BEGIN:VEVENT
DTSTART;TZID=America/New_York:20250709T160000
DTEND;TZID=America/New_York:20250709T180000
DTSTAMP:20260424T042124
CREATED:20250609T151720Z
LAST-MODIFIED:20250609T151720Z
UID:3043-1752076800-1752084000@mainecan.network
SUMMARY:E2Tech July Networking in Bangor
DESCRIPTION:Calling all environmental\, energy\, clean technology\, and other professionals in the Bangor area–join us for an after work evening of networking at Sea Dog Brewery in Bangor. (Source: E2Tech website)
URL:https://mainecan.network/event/e2tech-july-networking-in-bangor/
LOCATION:Sea Dog Brewery\, 26 Front St\, Bangor\, ME\, United States
END:VEVENT
END:VCALENDAR